BEGIN:VCALENDAR
VERSION:2.0
PRODID:-//Sounds-Write - ECPv6.15.20//NONSGML v1.0//EN
CALSCALE:GREGORIAN
METHOD:PUBLISH
X-WR-CALNAME:Sounds-Write
X-ORIGINAL-URL:https://sounds-write.co.uk
X-WR-CALDESC:Events for Sounds-Write
REFRESH-INTERVAL;VALUE=DURATION:PT1H
X-Robots-Tag:noindex
X-PUBLISHED-TTL:PT1H
BEGIN:VTIMEZONE
TZID:Europe/London
BEGIN:DAYLIGHT
TZOFFSETFROM:+0000
TZOFFSETTO:+0100
TZNAME:BST
DTSTART:20240331T010000
END:DAYLIGHT
BEGIN:STANDARD
TZOFFSETFROM:+0100
TZOFFSETTO:+0000
TZNAME:GMT
DTSTART:20241027T010000
END:STANDARD
BEGIN:DAYLIGHT
TZOFFSETFROM:+0000
TZOFFSETTO:+0100
TZNAME:BST
DTSTART:20250330T010000
END:DAYLIGHT
BEGIN:STANDARD
TZOFFSETFROM:+0100
TZOFFSETTO:+0000
TZNAME:GMT
DTSTART:20251026T010000
END:STANDARD
BEGIN:DAYLIGHT
TZOFFSETFROM:+0000
TZOFFSETTO:+0100
TZNAME:BST
DTSTART:20260329T010000
END:DAYLIGHT
BEGIN:STANDARD
TZOFFSETFROM:+0100
TZOFFSETTO:+0000
TZNAME:GMT
DTSTART:20261025T010000
END:STANDARD
END:VTIMEZONE
BEGIN:VEVENT
DTSTART;TZID=Europe/London:20250909T090000
DTEND;TZID=Europe/London:20250909T100000
DTSTAMP:20260423T001143
CREATED:20250520T143709Z
LAST-MODIFIED:20250826T103230Z
UID:32004-1757408400-1757412000@sounds-write.co.uk
SUMMARY:Reaching Fluency: Practical Strategies for Advancing Reading Instruction
DESCRIPTION:FULLY BOOKED \nWhat does true reading fluency look like—and how do we get there? Join us for an informative session that explores reading fluency and gives you the tools to nurture it from the very first lesson. \nWhat You’ll Learn\n\nWhat is Reading Fluency? Unpack the key components and discover why fluency matters at every stage of a learner’s journey.\nHow to Achieve It Dive into practical\, evidence-informed strategies you can implement right away to support fluent\, confident reading.\nMonitoring Progress Understand how to assess progress effectively and adjust instruction to meet individual needs.\n\nFeatured Resources\nWe’ll spotlight: \n\nOur suite of decodable texts\, carefully crafted to build fluency through structured\, cumulative practice.\nTargeted training opportunities designed to deepen your skillset in developing fluency across all stages of reading instruction.
URL:https://sounds-write.co.uk/event/reaching-fluency/
LOCATION:Zoom
CATEGORIES:Australia,Webinar
ATTACH;FMTTYPE=image/png:https://sounds-write.co.uk/wp-content/uploads/2025/05/Untitled-design-130-2.png
END:VEVENT
END:VCALENDAR