BEGIN:VCALENDAR
VERSION:2.0
PRODID:-//Sounds-Write - ECPv6.15.20//NONSGML v1.0//EN
CALSCALE:GREGORIAN
METHOD:PUBLISH
X-ORIGINAL-URL:https://sounds-write.co.uk
X-WR-CALDESC:Events for Sounds-Write
REFRESH-INTERVAL;VALUE=DURATION:PT1H
X-Robots-Tag:noindex
X-PUBLISHED-TTL:PT1H
BEGIN:VTIMEZONE
TZID:Europe/London
BEGIN:DAYLIGHT
TZOFFSETFROM:+0000
TZOFFSETTO:+0100
TZNAME:BST
DTSTART:20240331T010000
END:DAYLIGHT
BEGIN:STANDARD
TZOFFSETFROM:+0100
TZOFFSETTO:+0000
TZNAME:GMT
DTSTART:20241027T010000
END:STANDARD
BEGIN:DAYLIGHT
TZOFFSETFROM:+0000
TZOFFSETTO:+0100
TZNAME:BST
DTSTART:20250330T010000
END:DAYLIGHT
BEGIN:STANDARD
TZOFFSETFROM:+0100
TZOFFSETTO:+0000
TZNAME:GMT
DTSTART:20251026T010000
END:STANDARD
BEGIN:DAYLIGHT
TZOFFSETFROM:+0000
TZOFFSETTO:+0100
TZNAME:BST
DTSTART:20260329T010000
END:DAYLIGHT
BEGIN:STANDARD
TZOFFSETFROM:+0100
TZOFFSETTO:+0000
TZNAME:GMT
DTSTART:20261025T010000
END:STANDARD
BEGIN:DAYLIGHT
TZOFFSETFROM:+0000
TZOFFSETTO:+0100
TZNAME:BST
DTSTART:20270328T010000
END:DAYLIGHT
BEGIN:STANDARD
TZOFFSETFROM:+0100
TZOFFSETTO:+0000
TZNAME:GMT
DTSTART:20271031T010000
END:STANDARD
END:VTIMEZONE
BEGIN:VEVENT
DTSTART;VALUE=DATE:20251110
DTEND;VALUE=DATE:20261201
DTSTAMP:20260420T083844
CREATED:20251010T084557Z
LAST-MODIFIED:20260204T130428Z
UID:34141-1762732800-1796083199@sounds-write.co.uk
SUMMARY:From Speech to Print: Getting Children Ready for Reading
DESCRIPTION:Free online\, on-demand training for early years practitioners \nAre you supporting young children in the earliest stages of development and keen to lay strong foundations for reading? This free\, practical training session is designed for early years professionals working with children before they start school. \nWhat you’ll learn:\n\nSupporting language and physical development: Discover how speech\, movement\, and early literacy are deeply connected. Learn practical ways to foster children’s communication and physical skills to prepare them for reading.\nBuilding phonological and phonemic awareness: Explore how to help children tune into sounds\, play with words\, and develop the listening skills that underpin future reading success.\nUnderstanding Sounds-Write phonics: Get introduced to the Sounds-Write approach\, a proven\, speech-to-print method for teaching phonics. Gain confidence in how this framework can support your practice\, even before formal instruction begins.\n\nWho is it for?\nThis session is perfect for childminders\, nursery and pre-k practitioners\, playgroup leaders\, and anyone working with children in the pre-school years who wants to nurture a love of language and prepare children for reading in a developmentally appropriate way. \nREGISTER NOW\n 
URL:https://sounds-write.co.uk/event/from-sound-to-print-getting-children-ready-for-reading/
LOCATION:Zoom
CATEGORIES:Australia,UK,USA,Webinar
ATTACH;FMTTYPE=image/jpeg:https://sounds-write.co.uk/wp-content/uploads/2025/10/Blog-Image-4-2.jpg
END:VEVENT
END:VCALENDAR